BEGIN:VCALENDAR
VERSION:2.0
PRODID:-//Heather Leigh Designs - ECPv6.13.2.1//NONSGML v1.0//EN
CALSCALE:GREGORIAN
METHOD:PUBLISH
X-ORIGINAL-URL:https://www.heatherleigh-designs.com
X-WR-CALDESC:Events for Heather Leigh Designs
REFRESH-INTERVAL;VALUE=DURATION:PT1H
X-Robots-Tag:noindex
X-PUBLISHED-TTL:PT1H
BEGIN:VTIMEZONE
TZID:UTC
BEGIN:STANDARD
TZOFFSETFROM:+0000
TZOFFSETTO:+0000
TZNAME:UTC
DTSTART:20180101T000000
END:STANDARD
END:VTIMEZONE
BEGIN:VEVENT
DTSTART;TZID=UTC:20211022T080000
DTEND;TZID=UTC:20211024T170000
DTSTAMP:20260423T161339
CREATED:20210630T002409Z
LAST-MODIFIED:20210630T002409Z
UID:824-1634889600-1635094800@www.heatherleigh-designs.com
SUMMARY:Christmas Made in the South Concord NC
DESCRIPTION:Christmas Made in the South Concord\, NC  October 22-24 2021
URL:https://www.heatherleigh-designs.com/event/christmas-made-in-the-south-concord-nc/
END:VEVENT
BEGIN:VEVENT
DTSTART;TZID=UTC:20211001T080000
DTEND;TZID=UTC:20211003T170000
DTSTAMP:20260423T161339
CREATED:20210630T002110Z
LAST-MODIFIED:20210630T002110Z
UID:822-1633075200-1633280400@www.heatherleigh-designs.com
SUMMARY:The Craftsmen's Fall Classic Roanoke VA
DESCRIPTION:The Craftsmen’s Fall Classic Roanoke VA October 1-3 2021
URL:https://www.heatherleigh-designs.com/event/the-craftsmens-fall-classic-roanoke-va/
END:VEVENT
BEGIN:VEVENT
DTSTART;TZID=UTC:20210924T080000
DTEND;TZID=UTC:20210926T170000
DTSTAMP:20260423T161339
CREATED:20210630T001814Z
LAST-MODIFIED:20210922T184329Z
UID:820-1632470400-1632675600@www.heatherleigh-designs.com
SUMMARY:Atalaya Arts and Crafts Festival
DESCRIPTION:Atalaya Arts and Crafts Festival  Murrells Inlet SC  September 24-26 20021
URL:https://www.heatherleigh-designs.com/event/atalaya-arts-and-crafts-festival/
END:VEVENT
BEGIN:VEVENT
DTSTART;TZID=UTC:20210904T090000
DTEND;TZID=UTC:20210904T160000
DTSTAMP:20260423T161339
CREATED:20210630T000506Z
LAST-MODIFIED:20210630T000506Z
UID:816-1630746000-1630771200@www.heatherleigh-designs.com
SUMMARY:Oak Island Art Show
DESCRIPTION:Oak Island Art and Crafts Festival    Oak Island NC  September 4\, 2021 9-4  ( waiting on acceptance
URL:https://www.heatherleigh-designs.com/event/oak-island-art-show-2/
LOCATION:Oak Island Art Guild Annual Arts and Crafts Festival\, SE 46th St & E. Dolphin Dr\, Oak Island\, NC\, 28465\, United States
END:VEVENT
BEGIN:VEVENT
DTSTART;TZID=UTC:20210820T100000
DTEND;TZID=UTC:20210822T170000
DTSTAMP:20260423T161339
CREATED:20210629T235859Z
LAST-MODIFIED:20210629T235859Z
UID:814-1629453600-1629651600@www.heatherleigh-designs.com
SUMMARY:The Craftsmen's Summer Classic Myrtle Beach SC
DESCRIPTION:The Craftsmen’s Summer Classic Myrtle Beach SC August 20-22 2021
URL:https://www.heatherleigh-designs.com/event/the-craftsmens-summer-classic-myrtle-beach-sc-2/
LOCATION:myrtle beach convention center\, 2101 N Oak St\, Myrtle Beach\, SC\, 29577\, United States
END:VEVENT
BEGIN:VEVENT
DTSTART;TZID=UTC:20210811T100000
DTEND;TZID=UTC:20210812T170000
DTSTAMP:20260423T161339
CREATED:20210629T235209Z
LAST-MODIFIED:20210629T235209Z
UID:811-1628676000-1628787600@www.heatherleigh-designs.com
SUMMARY:New World Festival of the Arts
DESCRIPTION:New World Festival of the Arts  August 11- 12  2021  10 am – 5pm  ( Applied waiting on acceptance)  Downtown Manteo  waterfront Outer Banks NC
URL:https://www.heatherleigh-designs.com/event/new-world-festival-of-the-arts/
LOCATION:Manteo NC\, NC\, United States
END:VEVENT
BEGIN:VEVENT
DTSTART;TZID=UTC:20200502T100000
DTEND;TZID=UTC:20200502T160000
DTSTAMP:20260423T161339
CREATED:20200213T010953Z
LAST-MODIFIED:20200213T010953Z
UID:806-1588413600-1588435200@www.heatherleigh-designs.com
SUMMARY:Carolina Beach Street Art Festival
DESCRIPTION:Carolina Beach Street Arts Festival\, May 2 10-4\nCarolina Beach NC
URL:https://www.heatherleigh-designs.com/event/carolina-beach-street-art-festival/
END:VEVENT
BEGIN:VEVENT
DTSTART;TZID=UTC:20200328T090000
DTEND;TZID=UTC:20200329T170000
DTSTAMP:20260423T161339
CREATED:20200213T010621Z
LAST-MODIFIED:20200213T010621Z
UID:804-1585386000-1585501200@www.heatherleigh-designs.com
SUMMARY:Deland Outdoor Art Festival
DESCRIPTION:Deland outdoor art festival  March 28-29 2020\nDeland Florida
URL:https://www.heatherleigh-designs.com/event/deland-outdoor-art-festival/
END:VEVENT
BEGIN:VEVENT
DTSTART;TZID=UTC:20200313T100000
DTEND;TZID=UTC:20200315T170000
DTSTAMP:20260423T161339
CREATED:20200213T010317Z
LAST-MODIFIED:20200213T010317Z
UID:801-1584093600-1584291600@www.heatherleigh-designs.com
SUMMARY:Craftsmans Spring classic Richmond VA
DESCRIPTION:Craftsmans Spring Classic\, Richmond VA  March 13-15\nRichmond Raceway\n 600 E Laburnum Ave\, Richmond\, VA 23222
URL:https://www.heatherleigh-designs.com/event/craftsmansspringclassic/
END:VEVENT
BEGIN:VEVENT
DTSTART;TZID=UTC:20200306T100000
DTEND;TZID=UTC:20200308T180000
DTSTAMP:20260423T161339
CREATED:20200213T005738Z
LAST-MODIFIED:20200213T005738Z
UID:799-1583488800-1583690400@www.heatherleigh-designs.com
SUMMARY:Virginia Beach Spring Craft Market
DESCRIPTION:Virginia Beach spring craft market\, March 6-8th 2020\nVirginia Beach Convention Center\n1000 19th St\, Virginia Beach\, VA 23451 \n 
URL:https://www.heatherleigh-designs.com/event/virginia-beach-spring-craft-market/
END:VEVENT
BEGIN:VEVENT
DTSTART;TZID=UTC:20200229T100000
DTEND;TZID=UTC:20200229T140000
DTSTAMP:20260423T161339
CREATED:20200213T005118Z
LAST-MODIFIED:20200213T005118Z
UID:797-1582970400-1582984800@www.heatherleigh-designs.com
SUMMARY:Surf City Expo
DESCRIPTION:Surf City Expo February 29 2020  10-2 \nSurf City Community Center\, 201 Community Center Dr
URL:https://www.heatherleigh-designs.com/event/surf-city-expo/
LOCATION:Surf City Community Center\, 201 Community Center Dr\, Surf City \, NC\, 28445\, United States
END:VEVENT
BEGIN:VEVENT
DTSTART;TZID=UTC:20200223T110000
DTEND;TZID=UTC:20200223T150000
DTSTAMP:20260423T161339
CREATED:20200213T001630Z
LAST-MODIFIED:20200213T001630Z
UID:794-1582455600-1582470000@www.heatherleigh-designs.com
SUMMARY:Montys Pet expo
DESCRIPTION:Montys Pet expo\, Wilmington NC  February 23 11-3  Coastline Conference & Event Center 503 Nutt St.
URL:https://www.heatherleigh-designs.com/event/montys-pet-expo/
LOCATION:Coastline Convention Center\, 503 Nutt St.\, Wilmington\, NC\, United States
END:VEVENT
BEGIN:VEVENT
DTSTART;TZID=UTC:20191122T080000
DTEND;TZID=UTC:20191124T170000
DTSTAMP:20260423T161339
CREATED:20190816T230446Z
LAST-MODIFIED:20190816T230447Z
UID:769-1574409600-1574614800@www.heatherleigh-designs.com
SUMMARY:Tis the Season Holiday Fair
DESCRIPTION:Tis the Season Holiday Fair \n\n\n\n\nFriday\, November 22\, 2019  10am-6pm\nSaturday\, November 23\, 2019  10am-6pm\nSunday\, November 24\, 2019  11am-5pm \n\n\nWNC Agricultural Center\n761 New Boylston Hwy\nFletcher\, NC 28732
URL:https://www.heatherleigh-designs.com/event/tis-the-season-holiday-fair/
LOCATION:WNC Agricultural Center\, 761 New Boylston Hwy\, Fletcher\, 28732\, United States
END:VEVENT
BEGIN:VEVENT
DTSTART;TZID=UTC:20191108T100000
DTEND;TZID=UTC:20191110T170000
DTSTAMP:20260423T161339
CREATED:20190816T220253Z
LAST-MODIFIED:20190816T220253Z
UID:767-1573207200-1573405200@www.heatherleigh-designs.com
SUMMARY:Arts at the Mill
DESCRIPTION:Arts at the Mill Mooresville NC  November 8-10 2019
URL:https://www.heatherleigh-designs.com/event/arts-at-the-mill-2/
LOCATION:Arts at the Mill\, 500 S Main St\, Mooresville\, NC\, 28115\, United States
END:VEVENT
BEGIN:VEVENT
DTSTART;TZID=UTC:20191102T100000
DTEND;TZID=UTC:20191103T180000
DTSTAMP:20260423T161339
CREATED:20190816T215535Z
LAST-MODIFIED:20190816T215535Z
UID:765-1572688800-1572804000@www.heatherleigh-designs.com
SUMMARY:Artisanville
DESCRIPTION:Artisanville Greenville SC Convention center.  November 2-3 2019
URL:https://www.heatherleigh-designs.com/event/artisanville/
END:VEVENT
BEGIN:VEVENT
DTSTART;TZID=UTC:20191012T100000
DTEND;TZID=UTC:20191012T100000
DTSTAMP:20260423T161339
CREATED:20190816T214756Z
LAST-MODIFIED:20190816T214756Z
UID:763-1570874400-1570874400@www.heatherleigh-designs.com
SUMMARY:Church St art and craft show
DESCRIPTION:Church Street Arts and Craft Show  Waynesville NC   October 12\, 2019
URL:https://www.heatherleigh-designs.com/event/church-st-art-and-craft-show/
END:VEVENT
BEGIN:VEVENT
DTSTART;TZID=UTC:20190928T090000
DTEND;TZID=UTC:20190928T160000
DTSTAMP:20260423T161339
CREATED:20190816T190557Z
LAST-MODIFIED:20190816T190557Z
UID:759-1569661200-1569686400@www.heatherleigh-designs.com
SUMMARY:Hiddenite Celebration of the Arts
DESCRIPTION:Hiddenite Celebration of the Arts in Hiddenite NC 9-4
URL:https://www.heatherleigh-designs.com/event/hiddenite-celebration-of-the-arts/
END:VEVENT
BEGIN:VEVENT
DTSTART;TZID=UTC:20190921T100000
DTEND;TZID=UTC:20190921T170000
DTSTAMP:20260423T161339
CREATED:20190816T180247Z
LAST-MODIFIED:20190816T180247Z
UID:757-1569060000-1569085200@www.heatherleigh-designs.com
SUMMARY:American Craft Walk Wilmington
DESCRIPTION:American Craft walk downtown Wilmington NC
URL:https://www.heatherleigh-designs.com/event/american-craft-walk-wilmington/
LOCATION:Historic Downtown Wilmington\, NC\, 28402\, United States
END:VEVENT
BEGIN:VEVENT
DTSTART;TZID=UTC:20190831T090000
DTEND;TZID=UTC:20190831T160000
DTSTAMP:20260423T161339
CREATED:20190816T175744Z
LAST-MODIFIED:20190816T175744Z
UID:755-1567242000-1567267200@www.heatherleigh-designs.com
SUMMARY:Oak Island Art and Craft show
DESCRIPTION:Saturday August 31\, 2019 9-4
URL:https://www.heatherleigh-designs.com/event/oak-island-art-and-craft-show/
LOCATION:Oak Island Art Guild Annual Arts and Crafts Festival\, SE 46th St & E. Dolphin Dr\, Oak Island\, NC\, 28465\, United States
END:VEVENT
BEGIN:VEVENT
DTSTART;TZID=UTC:20181123T080000
DTEND;TZID=UTC:20181125T170000
DTSTAMP:20260423T161339
CREATED:20180530T171621Z
LAST-MODIFIED:20180530T171621Z
UID:691-1542960000-1543165200@www.heatherleigh-designs.com
SUMMARY:Craftsmen's Classic Holiday Market Greensboro NC
DESCRIPTION:Craftsmen’s Classic Holiday Market Greensboro NC November 23-25 2018
URL:https://www.heatherleigh-designs.com/event/craftsmens-classic-holiday-market-greensboro-nc/
END:VEVENT
BEGIN:VEVENT
DTSTART;TZID=UTC:20181020T093000
DTEND;TZID=UTC:20181021T170000
DTSTAMP:20260423T161339
CREATED:20180530T170912Z
LAST-MODIFIED:20180530T170912Z
UID:689-1540027800-1540141200@www.heatherleigh-designs.com
SUMMARY:Autumn With Topsail
DESCRIPTION:Autumn with Topsail\, Topsail NC October 20-21 2018
URL:https://www.heatherleigh-designs.com/event/autumn-with-topsail-5/
END:VEVENT
BEGIN:VEVENT
DTSTART;TZID=UTC:20181006T080000
DTEND;TZID=UTC:20181006T170000
DTSTAMP:20260423T161339
CREATED:20180530T170552Z
LAST-MODIFIED:20180530T173628Z
UID:687-1538812800-1538845200@www.heatherleigh-designs.com
SUMMARY:Brushy Mt Apple Festival
DESCRIPTION:Brushy Mt Apple Festival  898 Main St\, North Wilkesboro\, NC 28659 October 6 2018
URL:https://www.heatherleigh-designs.com/event/brushy-mt-apple-festival/
END:VEVENT
BEGIN:VEVENT
DTSTART;TZID=UTC:20180929T100000
DTEND;TZID=UTC:20180929T180000
DTSTAMP:20260423T161339
CREATED:20180530T172021Z
LAST-MODIFIED:20180530T172021Z
UID:693-1538215200-1538244000@www.heatherleigh-designs.com
SUMMARY:Art Walk and Jazz Fest 2018
DESCRIPTION:Art walk and Jazz Fest 2018 Matthews\, NC  Sept 29 2018 10am-6pm Held on the town green on Matthews Station St\, in Downtown Matthews NC
URL:https://www.heatherleigh-designs.com/event/art-walk-and-jazz-fest-2018/
LOCATION:ON THE GREEN AT MATTHEWS STATION\, Matthews\, NC\, United States
END:VEVENT
BEGIN:VEVENT
DTSTART;TZID=UTC:20180922T100000
DTEND;TZID=UTC:20180922T170000
DTSTAMP:20260423T161339
CREATED:20180530T170127Z
LAST-MODIFIED:20180530T170127Z
UID:685-1537610400-1537635600@www.heatherleigh-designs.com
SUMMARY:American Craft Walk
DESCRIPTION:American Craft Walk Wilmington NC  September 22\, 2018 in Downtown Wilmington NC
URL:https://www.heatherleigh-designs.com/event/american-craft-walk-2/
LOCATION:Historic Downtown Wilmington\, NC\, 28402\, United States
END:VEVENT
BEGIN:VEVENT
DTSTART;VALUE=DATE:20180907
DTEND;VALUE=DATE:20180910
DTSTAMP:20260423T161339
CREATED:20180530T165122Z
LAST-MODIFIED:20180530T165242Z
UID:683-1536278400-1536537599@www.heatherleigh-designs.com
SUMMARY:North Carolina Folk Festival
DESCRIPTION:NC Folk Festival Downtown Greensboro NC  September 7-9 2018
URL:https://www.heatherleigh-designs.com/event/north-carolina-folk-festival/
LOCATION:National Folk Festival Greensboro NC\, Greensboro\, NC\, United States
END:VEVENT
BEGIN:VEVENT
DTSTART;TZID=UTC:20180803T080000
DTEND;TZID=UTC:20180805T170000
DTSTAMP:20260423T161339
CREATED:20180530T164509Z
LAST-MODIFIED:20180530T173035Z
UID:680-1533283200-1533488400@www.heatherleigh-designs.com
SUMMARY:The Craftsmen's Summer Classic Myrtle Beach SC
DESCRIPTION:The Craftsmen’s Summer Classic Myrtle Beach South Carolina August 3-5 2018  Myrtle Beach Convention Center
URL:https://www.heatherleigh-designs.com/event/the-craftsmens-summer-classic-myrtle-beach-sc/
LOCATION:myrtle beach convention center\, 2101 N Oak St\, Myrtle Beach\, SC\, 29577\, United States
END:VEVENT
BEGIN:VEVENT
DTSTART;TZID=UTC:20180713T170000
DTEND;TZID=UTC:20180714T210000
DTSTAMP:20260423T161339
CREATED:20180530T161926Z
LAST-MODIFIED:20180530T172435Z
UID:677-1531501200-1531602000@www.heatherleigh-designs.com
SUMMARY:North Carolina Blackberry Festival
DESCRIPTION:NC Blackberry Festival \, Historic Downtown Lenoir\, NC  July 13 and July 14 2018
URL:https://www.heatherleigh-designs.com/event/north-carolina-blackberry-festival/
LOCATION:Downtown Lenoir NC\, Lenoir\, NC\, 28645\, United States
END:VEVENT
BEGIN:VEVENT
DTSTART;TZID=UTC:20180707T090000
DTEND;TZID=UTC:20180707T170000
DTSTAMP:20260423T161339
CREATED:20180315T153727Z
LAST-MODIFIED:20180315T153727Z
UID:664-1530954000-1530982800@www.heatherleigh-designs.com
SUMMARY:West Jefferson NC Christmas in July
DESCRIPTION:Christmas in July West Jefferson NC July 7 2018
URL:https://www.heatherleigh-designs.com/event/west-jefferson-nc-christmas-in-july/
LOCATION:West Jefferson NC\, West Jefferson\, NC\, 28694\, United States
END:VEVENT
BEGIN:VEVENT
DTSTART;TZID=UTC:20180623T130000
DTEND;TZID=UTC:20180623T180000
DTSTAMP:20260423T161339
CREATED:20180530T160256Z
LAST-MODIFIED:20180530T160256Z
UID:674-1529758800-1529776800@www.heatherleigh-designs.com
SUMMARY:26 Makers Market at 26 Acres Brewing Company
DESCRIPTION:26 Makers Market at\nTwenty-Six Acres Brewing Company 7285 Westwinds Boulevard Northwest\, Concord\, NC 28027\nJune 23\, 2018 1pm-6pm
URL:https://www.heatherleigh-designs.com/event/26-makers-market-at-26-acres-brewing-company/
LOCATION:26 Acres Brewing Co\, 7285 Westwinds Boulevard Northwest\, Concord\, NC\, 28027\, United States
END:VEVENT
BEGIN:VEVENT
DTSTART;TZID=UTC:20180615T160000
DTEND;TZID=UTC:20180617T200000
DTSTAMP:20260423T161339
CREATED:20180530T155454Z
LAST-MODIFIED:20180530T155454Z
UID:671-1529078400-1529265600@www.heatherleigh-designs.com
SUMMARY:Arts at the Mill
DESCRIPTION:Arts at the Mill in Mooresville NC  June 15- 17 2018   500 S Main St\, Mooresville NC 28115 \nFriday June 15 4-8pm\nSaturday June 16 10am- 8pm\nSunday June 17 11am – 5pm
URL:https://www.heatherleigh-designs.com/event/arts-at-the-mill/
LOCATION:Arts at the Mill\, 500 S Main St\, Mooresville\, NC\, 28115\, United States
END:VEVENT
END:VCALENDAR