BEGIN:VCALENDAR
VERSION:2.0
PRODID:-//Heather Leigh Designs - ECPv6.13.2.1//NONSGML v1.0//EN
CALSCALE:GREGORIAN
METHOD:PUBLISH
X-WR-CALNAME:Heather Leigh Designs
X-ORIGINAL-URL:https://www.heatherleigh-designs.com
X-WR-CALDESC:Events for Heather Leigh Designs
REFRESH-INTERVAL;VALUE=DURATION:PT1H
X-Robots-Tag:noindex
X-PUBLISHED-TTL:PT1H
BEGIN:VTIMEZONE
TZID:UTC
BEGIN:STANDARD
TZOFFSETFROM:+0000
TZOFFSETTO:+0000
TZNAME:UTC
DTSTART:20160101T000000
END:STANDARD
END:VTIMEZONE
BEGIN:VEVENT
DTSTART;TZID=UTC:20180519T100000
DTEND;TZID=UTC:20180519T160000
DTSTAMP:20260423T235956
CREATED:20180315T153158Z
LAST-MODIFIED:20180315T153158Z
UID:661-1526724000-1526745600@www.heatherleigh-designs.com
SUMMARY:Saluda Arts Festival
DESCRIPTION:Saluda Arts Festival\, May 19 2018  10-4 \n6 E Main St\, Saluda\, North Carolina 28773
URL:https://www.heatherleigh-designs.com/event/saluda-arts-festival/
LOCATION:Saluda NC\, 6 E Main St\, Saluda\, NC\, 28773\, United States
END:VEVENT
BEGIN:VEVENT
DTSTART;TZID=UTC:20180505T090000
DTEND;TZID=UTC:20180505T170000
DTSTAMP:20260423T235956
CREATED:20180315T152538Z
LAST-MODIFIED:20180315T152538Z
UID:659-1525510800-1525539600@www.heatherleigh-designs.com
SUMMARY:Blessing of the Inlet
DESCRIPTION:Blessing of the Inlet Murrels Inlet SC\,  May 5 2018 9am \nBelin United Methodist Church \nMurrells Inlet\, South Carolina 29576
URL:https://www.heatherleigh-designs.com/event/blessing-of-the-inlet-2/
LOCATION:Belin Memorial United Methodist Church\, Murrells Inlet\, SC\, 29576\, United States
END:VEVENT
BEGIN:VEVENT
DTSTART;TZID=UTC:20180414T140000
DTEND;TZID=UTC:20180414T200000
DTSTAMP:20260423T235956
CREATED:20180315T152019Z
LAST-MODIFIED:20180315T152019Z
UID:656-1523714400-1523736000@www.heatherleigh-designs.com
SUMMARY:Tawba Walk Arts & Music Festival
DESCRIPTION:Tawba Walk Arts and Music Festival April 14 2018 2-8pm \nOak Street Mill \n19725 Oak St\, Cornelius\, North Carolina 28031
URL:https://www.heatherleigh-designs.com/event/tawba-walk-arts-music-festival/
LOCATION:Oak  Street Mill\, 19725 Oak St\, Cornelius\, NC\, 28031\, United States
END:VEVENT
BEGIN:VEVENT
DTSTART;TZID=UTC:20180317T100000
DTEND;TZID=UTC:20180317T170000
DTSTAMP:20260423T235956
CREATED:20180315T151332Z
LAST-MODIFIED:20180315T151332Z
UID:653-1521280800-1521306000@www.heatherleigh-designs.com
SUMMARY:Vendor Village Galway Irish Pub
DESCRIPTION:Vendor Village at Galway Hooker Irish Pub   March 17 2018 \n\n\n\n\n\n\n\n\n17044 Kenton Dr\, Cornelius\, North Carolina 28031
URL:https://www.heatherleigh-designs.com/event/vendor-village-galway-irish-pub/
LOCATION:Galway Hooker Irish Pub\, 17044 Kenton Dr\, Cornelius\, NC\, 28031\, United States
END:VEVENT
BEGIN:VEVENT
DTSTART;TZID=UTC:20171201T160000
DTEND;TZID=UTC:20171201T160000
DTSTAMP:20260423T235956
CREATED:20171028T163413Z
LAST-MODIFIED:20171028T163413Z
UID:627-1512144000-1512144000@www.heatherleigh-designs.com
SUMMARY:Holiday Flea @ Brooklyn Arts Center
DESCRIPTION:Holiday Flea Brooklyn Arts Center  December 1-3 2017 \n\n\n\n\n\n\n\n\n\n\n\n\n\n516 N 4th St\, Wilmington\, North Carolina 28401
URL:https://www.heatherleigh-designs.com/event/holiday-flea-brooklyn-arts-center/
LOCATION:Brooklyn Arts Center\, 516 N. 4th St.\, Wilmington\, NC\, United States
END:VEVENT
BEGIN:VEVENT
DTSTART;TZID=UTC:20171124T090000
DTEND;TZID=UTC:20171126T170000
DTSTAMP:20260423T235956
CREATED:20171028T161812Z
LAST-MODIFIED:20171028T161812Z
UID:624-1511514000-1511715600@www.heatherleigh-designs.com
SUMMARY:Christmas Carousel Holiday Gift Market
DESCRIPTION:Christmas Carousel Holiday Gift Market.  November 24-26th 2017  Jim Graham Building  N.C. State Fairgrounds\n1025 Blue Ridge Rd\nRaleigh\, NC
URL:https://www.heatherleigh-designs.com/event/christmas-carousel-holiday-gift-market/
LOCATION:NC State Fairgrounds\, 1025 Blue Ridge Rd\, Raleigh\, NC\, 27607\, United States
END:VEVENT
BEGIN:VEVENT
DTSTART;TZID=UTC:20171111T090000
DTEND;TZID=UTC:20171111T163000
DTSTAMP:20260423T235956
CREATED:20170828T221724Z
LAST-MODIFIED:20170828T221724Z
UID:618-1510390800-1510417800@www.heatherleigh-designs.com
SUMMARY:Mistletoe Market
DESCRIPTION:Mistletoe Market Wakefield NC  Mistletoe Market Holiday Fair is Wakefield High School November 11\, 2017 9-4:30pm
URL:https://www.heatherleigh-designs.com/event/mistletoe-market/
LOCATION:Wakefield High School\,  2200 Wakefield Pines D\, Raleigh\, NC\, 27614\, United States
END:VEVENT
BEGIN:VEVENT
DTSTART;TZID=UTC:20171104T090000
DTEND;TZID=UTC:20171104T160000
DTSTAMP:20260423T235956
CREATED:20171028T155959Z
LAST-MODIFIED:20171028T155959Z
UID:621-1509786000-1509811200@www.heatherleigh-designs.com
SUMMARY:Lake Royal Holiday Gift and Food Fair
DESCRIPTION:Lake Royal Holiday Gift and Food Fair.  Saturday November 4th 9-4  open to public  Lake Royal Club house\, Louisburg NC  27549
URL:https://www.heatherleigh-designs.com/event/lake-royal-holiday-gift-and-food-fair/
LOCATION:Lake Royal Club House\, Louisburg\, NC\, 27549\, United States
END:VEVENT
BEGIN:VEVENT
DTSTART;TZID=UTC:20171028T120000
DTEND;TZID=UTC:20171028T180000
DTSTAMP:20260423T235956
CREATED:20171028T165713Z
LAST-MODIFIED:20171028T165713Z
UID:629-1509192000-1509213600@www.heatherleigh-designs.com
SUMMARY:A Crafty Christmas
DESCRIPTION:A Crafty Christmas  @ Hickory Metro Convention Center December 8-9th 2017
URL:https://www.heatherleigh-designs.com/event/a-crafty-christmas/
LOCATION:Hickory Metro Convention Center\, 1960 13th Ave Dr SE\, Hickory\, NC\, 28602\, United States
END:VEVENT
BEGIN:VEVENT
DTSTART;TZID=UTC:20171021T090000
DTEND;TZID=UTC:20171022T170000
DTSTAMP:20260423T235956
CREATED:20170828T221228Z
LAST-MODIFIED:20170828T221228Z
UID:616-1508576400-1508691600@www.heatherleigh-designs.com
SUMMARY:Autumn with Topsail
DESCRIPTION:Autumn with Topsail NC October 21-22 2017
URL:https://www.heatherleigh-designs.com/event/autumn-with-topsail-4/
LOCATION:AWT\, Topsail Beach \, 28445\, United States
END:VEVENT
BEGIN:VEVENT
DTSTART;TZID=UTC:20171014T093000
DTEND;TZID=UTC:20171014T180000
DTSTAMP:20260423T235956
CREATED:20170828T220831Z
LAST-MODIFIED:20170828T220831Z
UID:613-1507973400-1508004000@www.heatherleigh-designs.com
SUMMARY:Mountain Glory Festival- Marion NC
DESCRIPTION:34th Annual Mountain Glory Festival\nSaturday\, October 14\, 2017 \nMarion  NC– Where Main Street Meets The Mountains
URL:https://www.heatherleigh-designs.com/event/mountain-glory-festival-marion-nc/
LOCATION:Marion NC\, Marion\, NC\, United States
END:VEVENT
BEGIN:VEVENT
DTSTART;TZID=UTC:20170930T100000
DTEND;TZID=UTC:20170930T190000
DTSTAMP:20260423T235956
CREATED:20170828T220223Z
LAST-MODIFIED:20170828T220223Z
UID:610-1506765600-1506798000@www.heatherleigh-designs.com
SUMMARY:Artwalk & Jazzfest- Matthews NC
DESCRIPTION:Artwalk and Jazzfest in Matthews\, NC  On September 30\, 2017  ON THE GREEN AT MATTHEWS STATION
URL:https://www.heatherleigh-designs.com/event/artwalk-jazzfest-matthews-nc/
LOCATION:ON THE GREEN AT MATTHEWS STATION\, Matthews\, NC\, United States
END:VEVENT
BEGIN:VEVENT
DTSTART;TZID=UTC:20170923T100000
DTEND;TZID=UTC:20170923T170000
DTSTAMP:20260423T235956
CREATED:20170828T215544Z
LAST-MODIFIED:20170828T215544Z
UID:608-1506160800-1506186000@www.heatherleigh-designs.com
SUMMARY:American Craft Walk
DESCRIPTION:American Craft Walk\, Wilmington NC September 23\, 2017 10-5
URL:https://www.heatherleigh-designs.com/event/american-craft-walk/
LOCATION:Historic Downtown Wilmington\, NC\, 28402\, United States
END:VEVENT
BEGIN:VEVENT
DTSTART;TZID=UTC:20170916T100000
DTEND;TZID=UTC:20170916T163000
DTSTAMP:20260423T235956
CREATED:20170828T214844Z
LAST-MODIFIED:20170828T214844Z
UID:606-1505556000-1505579400@www.heatherleigh-designs.com
SUMMARY:Mt Heritage Festival NC
DESCRIPTION:Mt Heritage Festival NC is in Sparta NC  on September 16\, 2017 10am -4:30pm
URL:https://www.heatherleigh-designs.com/event/mt-heritage-festival-nc/
LOCATION:NC
END:VEVENT
BEGIN:VEVENT
DTSTART;TZID=UTC:20170908T120000
DTEND;TZID=UTC:20170909T070000
DTSTAMP:20260423T235956
CREATED:20170828T214327Z
LAST-MODIFIED:20170828T214327Z
UID:603-1504872000-1504940400@www.heatherleigh-designs.com
SUMMARY:Historic Morganton Fest
DESCRIPTION:Historic Morganton Fest Sept 8-9 2017 Morganton NC
URL:https://www.heatherleigh-designs.com/event/historic-morganton-fest/
LOCATION:Morganton NC\, Morganton\, NC\, United States
END:VEVENT
BEGIN:VEVENT
DTSTART;TZID=UTC:20170902T090000
DTEND;TZID=UTC:20170902T160000
DTSTAMP:20260423T235956
CREATED:20170828T213513Z
LAST-MODIFIED:20170828T213513Z
UID:601-1504342800-1504368000@www.heatherleigh-designs.com
SUMMARY:Oak Island Art & Craft Show
DESCRIPTION:Oak Island Art and Craft show.  September 2 2017  Oak Island NC
URL:https://www.heatherleigh-designs.com/event/oak-island-art-craft-show/
LOCATION:Oak Island Art Guild Annual Arts and Crafts Festival\, SE 46th St & E. Dolphin Dr\, Oak Island\, NC\, 28465\, United States
END:VEVENT
BEGIN:VEVENT
DTSTART;TZID=UTC:20170520T100000
DTEND;TZID=UTC:20170520T160000
DTSTAMP:20260423T235956
CREATED:20170323T235147Z
LAST-MODIFIED:20170323T235147Z
UID:587-1495274400-1495296000@www.heatherleigh-designs.com
SUMMARY:Carolina Beach Street Arts Festival
DESCRIPTION:Carolina Beach St Arts Festival May 20\, 2017 10 -4
URL:https://www.heatherleigh-designs.com/event/carolina-beach-street-arts-festival/
LOCATION:Carolina Beach\, Carolina Beach\, NC\, United States
END:VEVENT
BEGIN:VEVENT
DTSTART;TZID=UTC:20170506T090000
DTEND;TZID=UTC:20170506T160000
DTSTAMP:20260423T235956
CREATED:20170323T233830Z
LAST-MODIFIED:20170323T233830Z
UID:581-1494061200-1494086400@www.heatherleigh-designs.com
SUMMARY:Blessing of the Inlet
DESCRIPTION:Blessing of the Inlet Belin Memorial United Methodist Church Murrells Inlet\, SC.  Saturday May 6\, 2017
URL:https://www.heatherleigh-designs.com/event/blessing-of-the-inlet/
LOCATION:Belin Memorial United Methodist Church\, Murrells Inlet\, SC\, 29576\, United States
END:VEVENT
BEGIN:VEVENT
DTSTART;TZID=UTC:20170429T100000
DTEND;TZID=UTC:20170429T150000
DTSTAMP:20260423T235956
CREATED:20170323T234707Z
LAST-MODIFIED:20170323T234707Z
UID:584-1493460000-1493478000@www.heatherleigh-designs.com
SUMMARY:Pawz in Park (pending)
DESCRIPTION:Pawz in Park  Saturday April 29\, 2017 at the Battleship Park\, Wilmington\, NC   ( Pending acceptance)
URL:https://www.heatherleigh-designs.com/event/pawz-in-park-pending/
LOCATION:Battleship Park\, 1 Battleship Rd\, Wilmington \, NC\, 28401\, United States
END:VEVENT
BEGIN:VEVENT
DTSTART;TZID=UTC:20161202T090000
DTEND;TZID=UTC:20161204T140000
DTSTAMP:20260423T235956
CREATED:20160829T151511Z
LAST-MODIFIED:20160829T151511Z
UID:556-1480669200-1480860000@www.heatherleigh-designs.com
SUMMARY:Springmaid Beach Resort Winter Arts and Craft Show
DESCRIPTION:Springmaid Beach Resort Winter Arts and Craft Show 2016  Dec 2-4  Friday 2nd 9-5  Saturday 9-5 Sunday 9 – 2 Springmaid Beach Resort Myrtle Beach NC
URL:https://www.heatherleigh-designs.com/event/springmaid-beach-resort-winter-arts-and-craft-show/
LOCATION:Springmaid Beach Resort\, 3200 South Ocean Blvd\, Myrtle Beach \, SC\, 29577\, United States
END:VEVENT
BEGIN:VEVENT
DTSTART;TZID=UTC:20161202T080000
DTEND;TZID=UTC:20161204T170000
DTSTAMP:20260423T235956
CREATED:20160829T152109Z
LAST-MODIFIED:20160829T152109Z
UID:562-1480665600-1480870800@www.heatherleigh-designs.com
SUMMARY:(Pending) Holiday Flea @ BAC
DESCRIPTION:(Pending)  Holiday flea at the Brooklyn Arts Center Wilmington NC Dec 2-4 2016
URL:https://www.heatherleigh-designs.com/event/pending-holiday-flea-bac/
LOCATION:Brooklyn Arts Center\, 516 N. 4th St.\, Wilmington\, NC\, United States
END:VEVENT
BEGIN:VEVENT
DTSTART;TZID=UTC:20161118T130000
DTEND;TZID=UTC:20161120T180000
DTSTAMP:20260423T235956
CREATED:20160829T150209Z
LAST-MODIFIED:20160829T150209Z
UID:552-1479474000-1479664800@www.heatherleigh-designs.com
SUMMARY:Yule Mart
DESCRIPTION:Yule Mart  Nov 18th to 20 2016  Friday 18 1 – 7 pm  Saturday 19th 9am to 7pm  Sunday 11am to 6pm   Crown Arena\, Fayetteville NC
URL:https://www.heatherleigh-designs.com/event/yule-mart/
LOCATION:Crown Areana\, 1960 Coliseum Dr\, Fayetteville\, NC\, 28306\, United States
END:VEVENT
BEGIN:VEVENT
DTSTART;TZID=UTC:20161112T090000
DTEND;TZID=UTC:20161112T170000
DTSTAMP:20260423T235956
CREATED:20160829T145610Z
LAST-MODIFIED:20160829T145610Z
UID:550-1478941200-1478970000@www.heatherleigh-designs.com
SUMMARY:Mistletoe Market Holiday Fair
DESCRIPTION:Mistletoe Market Holiday Fair  Saturday Nov 12 2016 9am  Wakefield High School
URL:https://www.heatherleigh-designs.com/event/mistletoe-market-holiday-fair-4/
LOCATION:Wakefield High School\,  2200 Wakefield Pines D\, Raleigh\, NC\, 27614\, United States
END:VEVENT
BEGIN:VEVENT
DTSTART;TZID=UTC:20161105T100000
DTEND;TZID=UTC:20161105T160000
DTSTAMP:20260423T235956
CREATED:20160829T145128Z
LAST-MODIFIED:20160829T145255Z
UID:544-1478340000-1478361600@www.heatherleigh-designs.com
SUMMARY:Working Fingers Arts and Craft Show ( Pending)
DESCRIPTION:(Pending) \nWorking Fingers Arts and Craft Show Saturday Nov. 5th 10am to 4 pm  Charles Mark Citizens Center Mooresville NC
URL:https://www.heatherleigh-designs.com/event/working-fingers-arts-and-craft-show/
LOCATION:Charles Mack Citizens Center\, 215 N Main St\, Mooresville \, NC\, 28115\, United States
END:VEVENT
BEGIN:VEVENT
DTSTART;TZID=UTC:20161028T080000
DTEND;TZID=UTC:20161030T170000
DTSTAMP:20260423T235956
CREATED:20160829T144640Z
LAST-MODIFIED:20160829T144640Z
UID:540-1477641600-1477846800@www.heatherleigh-designs.com
SUMMARY:Holiday Gift Galleria
DESCRIPTION:Holiday Gift Galleria  (PENDING ) Shelby NC  Oct 28th to 30 2016  Le Grand Center  Shelby NC
URL:https://www.heatherleigh-designs.com/event/holiday-gift-galleria/
LOCATION:Le Grand Center\, 1800 E Marion St\, Shelby\, NC\, 28152\, United States
END:VEVENT
BEGIN:VEVENT
DTSTART;TZID=UTC:20161015T093000
DTEND;TZID=UTC:20161016T170000
DTSTAMP:20260423T235956
CREATED:20160829T144020Z
LAST-MODIFIED:20160829T144020Z
UID:538-1476523800-1476637200@www.heatherleigh-designs.com
SUMMARY:Autumn with Topsail
DESCRIPTION:Autumn with Topsail   October 15 and 16 9:30 to 5
URL:https://www.heatherleigh-designs.com/event/autumn-with-topsail-3/
LOCATION:AWT\, Topsail Beach \, 28445\, United States
END:VEVENT
BEGIN:VEVENT
DTSTART;TZID=UTC:20160930T120000
DTEND;TZID=UTC:20161001T230000
DTSTAMP:20260423T235956
CREATED:20160829T143457Z
LAST-MODIFIED:20160829T143457Z
UID:535-1475236800-1475362800@www.heatherleigh-designs.com
SUMMARY:Wide Open Bluegrass Festival Art market
DESCRIPTION:Wide open Bluegrass Festival Art Market Downtown Raleigh NC  Sept 30th to Oct 1 2016  noon to 11pm
URL:https://www.heatherleigh-designs.com/event/wide-open-bluegrass-festival-art-market/
LOCATION:Downtown Raleigh NC\, Raleigh\, NC\, United States
END:VEVENT
BEGIN:VEVENT
DTSTART;TZID=UTC:20160923T160000
DTEND;TZID=UTC:20160925T180000
DTSTAMP:20260423T235956
CREATED:20160829T142527Z
LAST-MODIFIED:20160829T142527Z
UID:529-1474646400-1474826400@www.heatherleigh-designs.com
SUMMARY:Festival in the Park
DESCRIPTION:Festival in the Park  Freedom Park  Charlotte NC  Friday Sept 23 4pm to 9:30 pm  Saturday Sept 24th 10 am to 9:30 pm  Sunday Sept 25th 11am to 6pm
URL:https://www.heatherleigh-designs.com/event/festival-in-the-park/
LOCATION:Freedom Park\, 2435 Cumberland ave\, Charlotte \, NC\, 28203\, United States
END:VEVENT
BEGIN:VEVENT
DTSTART;TZID=UTC:20160909T170000
DTEND;TZID=UTC:20160911T181500
DTSTAMP:20260423T235956
CREATED:20160829T141601Z
LAST-MODIFIED:20160829T141601Z
UID:527-1473440400-1473617700@www.heatherleigh-designs.com
SUMMARY:National Folk Festival In Greensboro
DESCRIPTION:The National Folk Festival in Greensboro NC  Friday Sept 9th 5-10:30pm  Saturday Sept 10 11am to 10:30 pm  Sunday Sept 11 11am to 6:15pm  Downtown Greensboro NC
URL:https://www.heatherleigh-designs.com/event/national-folk-festival-in-greensboro/
LOCATION:National Folk Festival Greensboro NC\, Greensboro\, NC\, United States
END:VEVENT
BEGIN:VEVENT
DTSTART;TZID=UTC:20160903T100000
DTEND;TZID=UTC:20160903T160000
DTSTAMP:20260423T235956
CREATED:20160829T140837Z
LAST-MODIFIED:20160829T140837Z
UID:525-1472896800-1472918400@www.heatherleigh-designs.com
SUMMARY:Oak Island Art Show
DESCRIPTION:Oak Island Art Guild’s 27th Annual Arts and Crafts Festival  Saturday Sept 3rd 2016 10am to 4pm  Located in field on corner of 46th St and Dolphin St.
URL:https://www.heatherleigh-designs.com/event/oak-island-art-show/
LOCATION:Oak Island Art Guild Annual Arts and Crafts Festival\, SE 46th St & E. Dolphin Dr\, Oak Island\, NC\, 28465\, United States
END:VEVENT
END:VCALENDAR