BEGIN:VCALENDAR
VERSION:2.0
PRODID:-//Heather Leigh Designs - ECPv6.13.2.1//NONSGML v1.0//EN
CALSCALE:GREGORIAN
METHOD:PUBLISH
X-WR-CALNAME:Heather Leigh Designs
X-ORIGINAL-URL:https://www.heatherleigh-designs.com
X-WR-CALDESC:Events for Heather Leigh Designs
REFRESH-INTERVAL;VALUE=DURATION:PT1H
X-Robots-Tag:noindex
X-PUBLISHED-TTL:PT1H
BEGIN:VTIMEZONE
TZID:UTC
BEGIN:STANDARD
TZOFFSETFROM:+0000
TZOFFSETTO:+0000
TZNAME:UTC
DTSTART:20150101T000000
END:STANDARD
END:VTIMEZONE
BEGIN:VEVENT
DTSTART;TZID=UTC:20160430T090000
DTEND;TZID=UTC:20160430T150000
DTSTAMP:20260424T060021
CREATED:20160302T195758Z
LAST-MODIFIED:20160302T195758Z
UID:520-1462006800-1462028400@www.heatherleigh-designs.com
SUMMARY:Queens Creek United Methodist Church Craft Fair
DESCRIPTION:Queens Creek United Methodist Church Craft Fair  April 30th 2016  9am-3pm
URL:https://www.heatherleigh-designs.com/event/queens-creek-united-methodist-church-craft-fair/
LOCATION:Queens Creek United Mthodist Church\, 324 Hubert Blvd\, Hubert\, NC\, 28539\, United States
END:VEVENT
BEGIN:VEVENT
DTSTART;TZID=UTC:20160423T090000
DTEND;TZID=UTC:20160424T170000
DTSTAMP:20260424T060021
CREATED:20160302T195021Z
LAST-MODIFIED:20160302T195021Z
UID:519-1461402000-1461517200@www.heatherleigh-designs.com
SUMMARY:Spring Hidden Talents Craft Fair
DESCRIPTION:Spring Hidden Talents Craft Fair April 23-24 2016  Marston Pavilion aboard Camp Lejeune  Sat 9-5 Sunday 12-4
URL:https://www.heatherleigh-designs.com/event/spring-hidden-talents-craft-fair/
LOCATION:Marston Pavilion\, Camp Lejeune\, NC\, United States
END:VEVENT
BEGIN:VEVENT
DTSTART;TZID=UTC:20160402T100000
DTEND;TZID=UTC:20160403T170000
DTSTAMP:20260424T060021
CREATED:20160402T194614Z
LAST-MODIFIED:20160302T195353Z
UID:517-1459591200-1459702800@www.heatherleigh-designs.com
SUMMARY:Coastal Living Show
DESCRIPTION:Coastal Living Show  April 2-3 2016  10am-5pm each day @ Cape Fear Community College\nSchwartz Center\n601 N. Front Street\nWilmington\, NC
URL:https://www.heatherleigh-designs.com/event/coastal-living-show/
LOCATION:Cape Fear Community College Schwartz Center\, 601 N Front St\, Wilmington\, NC\, United States
END:VEVENT
BEGIN:VEVENT
DTSTART;TZID=UTC:20160318T090000
DTEND;TZID=UTC:20160320T190000
DTSTAMP:20260424T060021
CREATED:20160302T194041Z
LAST-MODIFIED:20160302T194041Z
UID:515-1458291600-1458500400@www.heatherleigh-designs.com
SUMMARY:Cape Fear Wildlife Expo
DESCRIPTION:Cape Fear Wildlife Expo March 18th – 20th Wilmington Convention Center
URL:https://www.heatherleigh-designs.com/event/cape-fear-wildlife-expo/
LOCATION:Wilmington Convention Center\, 515 Nut St\, Wilmington\, NC\, 28405\, United States
END:VEVENT
BEGIN:VEVENT
DTSTART;TZID=UTC:20160312T100000
DTEND;TZID=UTC:20160312T140000
DTSTAMP:20260424T060021
CREATED:20160302T193241Z
LAST-MODIFIED:20160302T193241Z
UID:513-1457776800-1457791200@www.heatherleigh-designs.com
SUMMARY:Surf City Women's Expo
DESCRIPTION:Surf City Women’s expo Saturday March 12 10am to 2pm  @ Surf City Community Center
URL:https://www.heatherleigh-designs.com/event/surf-city-womens-expo/
LOCATION:Surf City Community Center\, 201 Community Center Dr\, Surf City \, NC\, 28445\, United States
END:VEVENT
BEGIN:VEVENT
DTSTART;TZID=UTC:20151204T150000
DTEND;TZID=UTC:20151204T210000
DTSTAMP:20260424T060021
CREATED:20151022T152849Z
LAST-MODIFIED:20151022T152849Z
UID:487-1449241200-1449262800@www.heatherleigh-designs.com
SUMMARY:Holiday Flea at BAC
DESCRIPTION:( pending approval) \nHoliday Flea at the BAC  Brooklyn Arts Center\, Wilmington NC  December 4-6 2015
URL:https://www.heatherleigh-designs.com/event/holiday-flea-at-bac/
LOCATION:Brooklyn Arts Center\, 516 N. 4th St.\, Wilmington\, NC\, United States
END:VEVENT
BEGIN:VEVENT
DTSTART;TZID=UTC:20151128T093000
DTEND;TZID=UTC:20151128T163000
DTSTAMP:20260424T060021
CREATED:20151022T152258Z
LAST-MODIFIED:20151022T152258Z
UID:485-1448703000-1448728200@www.heatherleigh-designs.com
SUMMARY:Kris Kringle Show
DESCRIPTION:Kris Kringle Show Topsail Beach Assembly Building\, Topsail Beach NC  November 28 2015 9:30am – 4:30 pm
URL:https://www.heatherleigh-designs.com/event/kris-kringle-show/
LOCATION:Topsail Beach Assembly Building\, Topsail Beach\, NC\, United States
END:VEVENT
BEGIN:VEVENT
DTSTART;TZID=UTC:20151120T190000
DTEND;TZID=UTC:20151121T160000
DTSTAMP:20260424T060021
CREATED:20150701T181400Z
LAST-MODIFIED:20151022T151411Z
UID:470-1448046000-1448121600@www.heatherleigh-designs.com
SUMMARY:Boutique a shopping event Wintson-Salem NC
DESCRIPTION:Boutique November 20-21 2015 @ Embassy Suites Grand Pavilion Ballroom\, 460 N. Cherry St.\, Winston-Salem\, NC \nFriday Nov. 20 6pm-10 pm ( 6-7 Sustainer shopping hour)(7-10 Girls night out shopping)\nSaturday Nov 21 9am-4pm
URL:https://www.heatherleigh-designs.com/event/boutique-a-shopping-event-wintson-salem-nc/
LOCATION:Embassy Suites Grand Pavilion Ballroom\, 460 N. Cherry St\, Winston-Salem\, NC\, 27101\, United States
END:VEVENT
BEGIN:VEVENT
DTSTART;TZID=UTC:20151114T090000
DTEND;TZID=UTC:20151114T163000
DTSTAMP:20260424T060021
CREATED:20150701T182047Z
LAST-MODIFIED:20151022T151602Z
UID:473-1447491600-1447518600@www.heatherleigh-designs.com
SUMMARY:Mistletoe Market Holiday Fair
DESCRIPTION:Mistletoe Market Holiday Fair  November 14 2015 9am-4:30pm  Wakefield High School\n2200 Wakefield Pines Dr. Raleigh\, NC 27614
URL:https://www.heatherleigh-designs.com/event/mistletoe-market-holiday-fair-3/
LOCATION:Wakefield High School\,  2200 Wakefield Pines D\, Raleigh\, NC\, 27614\, United States
END:VEVENT
BEGIN:VEVENT
DTSTART;TZID=UTC:20151031T090000
DTEND;TZID=UTC:20151101T160000
DTSTAMP:20260424T060021
CREATED:20151022T150743Z
LAST-MODIFIED:20151022T150743Z
UID:483-1446282000-1446393600@www.heatherleigh-designs.com
SUMMARY:Hidden Talents Craft Fair 2015
DESCRIPTION:Fall Hidden Talents Craft Fair 2015  October 31 9am -5pm  and November 1 noon -4pm  2015.  Marston Pavilion located on  Camp Lejeune NC
URL:https://www.heatherleigh-designs.com/event/hidden-talents-craft-fair-2015/
LOCATION:Marston Pavilion\, Camp Lejeune\, NC\, United States
END:VEVENT
END:VCALENDAR